BEGIN:VCALENDAR
VERSION:2.0
PRODID:-//InvisionCommunity Events 5.0.18//EN
METHOD:PUBLISH
CALSCALE:GREGORIAN
REFRESH-INTERVAL:PT15M
X-PUBLISHED-TTL:PT15M
X-WR-CALNAME:Community Calendar
NAME:Community Calendar
BEGIN:VTIMEZONE
TZID:Europe/London
TZURL:https://tzurl.org/zoneinfo/Europe/London
X-LIC-LOCATION:Europe/London
BEGIN:DAYLIGHT
TZOFFSETFROM:+0000
TZOFFSETTO:+0100
TZNAME:BST
DTSTART:20250330T020000Z
RRULE:FREQ=YEARLY;BYMONTH=3;BYDAY=-1SU
END:DAYLIGHT
BEGIN:STANDARD
TZOFFSETFROM:+0100
TZOFFSETTO:+0000
TZNAME:GMT
DTSTART:20251026T020000Z
RRULE:FREQ=YEARLY;BYMONTH=10;BYDAY=-1SU
END:STANDARD
END:VTIMEZONE
BEGIN:VTIMEZONE
TZID:Europe/London
TZURL:https://tzurl.org/zoneinfo/Europe/London
X-LIC-LOCATION:Europe/London
BEGIN:DAYLIGHT
TZOFFSETFROM:+0000
TZOFFSETTO:+0100
TZNAME:BST
DTSTART:20240331T020000Z
RRULE:FREQ=YEARLY;BYMONTH=3;BYDAY=-1SU
END:DAYLIGHT
BEGIN:STANDARD
TZOFFSETFROM:+0100
TZOFFSETTO:+0000
TZNAME:GMT
DTSTART:20241027T020000Z
RRULE:FREQ=YEARLY;BYMONTH=10;BYDAY=-1SU
END:STANDARD
END:VTIMEZONE
BEGIN:VEVENT
SUMMARY:Absentee Ballots Due
DTSTAMP:20241110T145024Z
SEQUENCE:0
UID:9-1-2bd78aa703579802ae742e41da67cd45@forums.gaceonline.net
ORGANIZER;CN="Dennis Maidon":postmaster@gaceonline.net
DESCRIPTION:Absentee ballots will go out no later than January 8th\, and
	 will be due February 3\, 2025.  
DTSTART;VALUE=DATE:20250228
END:VEVENT
BEGIN:VEVENT
SUMMARY:2025 GACE Spring Conference
DTSTAMP:20241026T150007Z
SEQUENCE:0
UID:1-1-2bd78aa703579802ae742e41da67cd45@forums.gaceonline.net
ORGANIZER;CN="dmaidon":postmaster@gaceonline.net
DESCRIPTION:Savannah\, Georgiahttps://forums.gaceonline.com/conference_i
	nfo/2025-spring-conference-r8/As information is released\, it will be publ
	ished here.
DTSTART:20250304T190000Z
DTEND:20250307T170000Z
ATTENDEE;CN="Craig";CUTYPE=INDIVIDUAL;PARTSTAT=ACCEPTED:post
	master@gaceonline.net
ATTENDEE;CN="Erin Browne";CUTYPE=INDIVIDUAL;PARTSTAT=ACCEPTE
	D:postmaster@gaceonline.net
ATTENDEE;CN="Mark";CUTYPE=INDIVIDUAL;PARTSTAT=ACCEPTED:postm
	aster@gaceonline.net
ATTENDEE;CN="William R. Bruce";CUTYPE=INDIVIDUAL;PARTSTAT=AC
	CEPTED:postmaster@gaceonline.net
ATTENDEE;CN="Markpalmer1";CUTYPE=INDIVIDUAL;PARTSTAT=ACCEPTE
	D:postmaster@gaceonline.net
ATTENDEE;CN="Dennis Maidon";CUTYPE=INDIVIDUAL;PARTSTAT=ACCEP
	TED:postmaster@gaceonline.net
END:VEVENT
BEGIN:VEVENT
SUMMARY:GACE BoD Nomination Forms
DTSTAMP:20241110T144738Z
SEQUENCE:0
UID:8-1-2bd78aa703579802ae742e41da67cd45@forums.gaceonline.net
ORGANIZER;CN="Dennis Maidon":postmaster@gaceonline.net
DESCRIPTION:GACE Board of Director Nomination forms must be submitted by
	 today.
DTSTART;VALUE=DATE:20250104
END:VEVENT
BEGIN:VEVENT
SUMMARY:Inauguration Day
DTSTAMP:20241110T144237Z
SEQUENCE:0
UID:7-1-2bd78aa703579802ae742e41da67cd45@forums.gaceonline.net
ORGANIZER;CN="Dennis Maidon":postmaster@gaceonline.net
DESCRIPTION:Inauguration Day occurs every four years on Jan. 20 (or Jan.
	 21 if Jan. 20 falls on a Sunday). The inauguration ceremony takes place a
	t the U.S. Capitol building in Washington\, D.C.
DTSTART;VALUE=DATE:20250120
RRULE:FREQ=YEARLY;INTERVAL=4;COUNT=3
END:VEVENT
BEGIN:VEVENT
SUMMARY:New Years Day!
DTSTAMP:20241110T143954Z
SEQUENCE:0
UID:6-1-2bd78aa703579802ae742e41da67cd45@forums.gaceonline.net
ORGANIZER;CN="Dennis Maidon":postmaster@gaceonline.net
DESCRIPTION:Happy New Year!
DTSTART;VALUE=DATE:20250101
END:VEVENT
BEGIN:VEVENT
SUMMARY:Christmas Day!
DTSTAMP:20241101T150548Z
SEQUENCE:0
UID:5-1-2bd78aa703579802ae742e41da67cd45@forums.gaceonline.net
ORGANIZER;CN="Dennis Maidon":postmaster@gaceonline.net
DESCRIPTION:Merry Christmas!
DTSTART;VALUE=DATE:20241225
RRULE:FREQ=YEARLY;INTERVAL=1
END:VEVENT
BEGIN:VEVENT
SUMMARY:Thanksgiving
DTSTAMP:20241101T145610Z
SEQUENCE:0
UID:4-1-2bd78aa703579802ae742e41da67cd45@forums.gaceonline.net
ORGANIZER;CN="Dennis Maidon":postmaster@gaceonline.net
DESCRIPTION:Turkey Day!
DTSTART;VALUE=DATE:20241128
END:VEVENT
BEGIN:VEVENT
SUMMARY:Election Day!
DTSTAMP:20241027T135812Z
SEQUENCE:0
UID:2-1-2bd78aa703579802ae742e41da67cd45@forums.gaceonline.net
ORGANIZER;CN="dmaidon":postmaster@gaceonline.net
DESCRIPTION:Vote! Your vote counts!
DTSTART;VALUE=DATE:20241105
END:VEVENT
END:VCALENDAR
